BEGIN:VCALENDAR
VERSION:2.0
PRODID:-//ChamberMaster//Event Calendar 2.0//EN
METHOD:PUBLISH
X-PUBLISHED-TTL:P3D
REFRESH-INTERVAL:P3D
CALSCALE:GREGORIAN
BEGIN:VEVENT
DTSTART:20260326T223000Z
DTEND:20260327T013000Z
X-MICROSOFT-CDO-ALLDAYEVENT:FALSE
SUMMARY:ERACC BIG EVENT - Fire & Ice A White Hot Gala
DESCRIPTION:Fire & Ice...a White Hot Gala!\n\n\n\nThemed Fundraiser for the Elk River Area Chamber of Commerce.\n\n\n\nThis unforgettable evening is packed with:\n\n\n\n   Delicious food and drinks\n\n  High-energy games\n\n  Incredible silent and LIVE auction items   from must-have experiences to big-ticket treasures!\n\nLive Entertainment\n\n  Want to play all night long?\n\nUpgrade your night with our Games Package   a $55 value for just $45!\n\nThis all-access pass includes entry to every game we're playing\, like:\n\n Back by popular demand! The human slot machine!\n\n   Tickets are limited   and they're going fast!\n\nGather your friends\, dress the part and get ready for a night of fundraising fun to support the work of the Elk River Area Chamber.\n\n*Attire suggestion: glam/cocktail attire or close to it\, dress in WHITE or a splash of red\, if you're feeling daring.\n\nThis is THE party you don't want to miss.\n\nSecure your spot now and let's make this gala the Hottest night of the year!\n\n\n\n \n\nFire Meets Ice\n\nWhen Fire meets Ice\, powerful things happen. Passion paired with focus. Energy balanced with composure. That's the spirit behind Fire & Ice: A White Hot Gala. Whether you support the event through an auction donation\, sponsorship\, or attending\, your involvement helps create an evening that reflects the very best of our business community and supports the Chamber's work year-round. There's still time to be part of this white-hot night\, and we'd love to help you find the right way to jump in.
X-ALT-DESC;FMTTYPE=text/html:<h3 dir="auto"><span style="font-size:16px\;">Fire &amp\; Ice...a White Hot Gala!<br />\n<br />\n<span style="font-family:arial\;">Themed Fundraiser for the Elk River Area Chamber of Commerce.</span><br />\n<br />\nThis unforgettable evening is packed with:<br data-end="578" data-start="575" />\n<br data-end="636" data-start="633" />\n&#127869\;&#65039\; Delicious food and drinks<br data-end="668" data-start="665" />\n&#127881\; High-energy games<br data-end="691" data-start="688" />\n&#128142\; Incredible silent and LIVE auction items &ndash\; from must-have experiences to big-ticket treasures!<br />\nLive Entertainment</span></h3>\n\n<h3 data-end="829" data-start="792"><span style="font-size:16px\;">&#127922\; Want to play all night long?</span></h3>\n\n<p data-end="1202" data-start="830"><span style="font-size:16px\;">Upgrade your night with our <strong data-end="875" data-start="858">Games Package</strong> &ndash\; a $55 value for just <strong data-end="906" data-start="899">$45</strong>!<br data-end="910" data-start="907" />\nThis all-access pass includes entry to every game we&rsquo\;re playing\, like:<br data-end="983" data-start="980" />\n<span style="font-size:28px\;">&#127920\;<span style="font-size:16px\;">Back by popular demand! The human slot machine!</span></span></span></p>\n\n<h3 data-end="1259" data-start="1204"><span style="font-size:16px\;">&#127903\;&#65039\; Tickets are limited &ndash\; and they&#39\;re going fast!</span></h3>\n\n<p data-end="1431" data-start="1260"><span style="font-size:16px\;">Gather your friends\, dress the part&nbsp\;and get ready for a&nbsp\;night of fundraising fun to support the work of the Elk River Area Chamber.<br />\n*Attire suggestion: glam/cocktail attire or close to it\, dress in WHITE or&nbsp\;a splash of red\, if you&#39\;re feeling daring.</span></p>\n\n<p data-end="1568" data-start="1433"><span style="font-size:16px\;">This is <strong data-end="1448" data-start="1441">THE</strong> party you don&rsquo\;t want to miss.<br data-end="1481" data-start="1478" />\nSecure your spot now and let&rsquo\;s make this gala the <strong>Hottest&nbsp\;</strong>night of the year!</span><br />\n<br />\n&nbsp\;</p>\n\n<h3 style="margin: 0px\; font-family: Arial\, Verdana\, Helvetica\, sans-serif\; font-size: 20px\; white-space-collapse: preserve\; background-color: rgb(239\, 93\, 31)\;"><span style="font-size: 16px\; color: rgb(255\, 255\, 255)\;">Fire Meets Ice</span></h3>\n\n<p style="margin: 0px\; padding: 0px\; color: rgb(96\, 109\, 120)\; font-family: Helvetica\, Arial\, sans-serif\; font-size: 16px\; white-space-collapse: preserve\; background-color: rgb(239\, 93\, 31)\;"><span style="font-size: 13px\; color: rgb(255\, 255\, 255)\;">When Fire meets Ice\, powerful things happen. Passion paired with focus. Energy balanced with composure. That&rsquo\;s the spirit behind Fire &amp\; Ice: A White Hot Gala. Whether you support the event through an auction donation\, sponsorship\, or attending\, your involvement helps create an evening that reflects the very best of our business community and supports the Chamber&rsquo\;s work year-round. There&rsquo\;s still time to be part of this white-hot night\, and we&rsquo\;d love to help you find the right way to jump in.</span></p>\n
LOCATION:Station One Event Center Zimmerman\, MN
UID:e.32.33059
SEQUENCE:3
DTSTAMP:20260421T084808Z
URL:https://business.elkriverchamber.org/events/details/eracc-big-event-fire-ice-a-white-hot-gala-33059
END:VEVENT

END:VCALENDAR
