BEGIN:VCALENDAR
VERSION:2.0
PRODID:-//ChamberMaster//Event Calendar 2.0//EN
METHOD:PUBLISH
X-PUBLISHED-TTL:P3D
REFRESH-INTERVAL:P3D
CALSCALE:GREGORIAN
BEGIN:VEVENT
DTSTART:20221203T150000Z
DTEND:20221203T210000Z
X-MICROSOFT-CDO-ALLDAYEVENT:FALSE
SUMMARY:Holiday Makers Market
DESCRIPTION:
X-ALT-DESC;FMTTYPE=text/html:
LOCATION:Furniture and Things Community Event Center
UID:e.32.30455
SEQUENCE:3
DTSTAMP:20260425T160344Z
URL:https://business.elkriverchamber.org/events/details/holiday-makers-market-12-03-2022-30455
END:VEVENT

END:VCALENDAR
