BEGIN:VCALENDAR
VERSION:2.0
PRODID:-//ChamberMaster//Event Calendar 2.0//EN
METHOD:PUBLISH
X-PUBLISHED-TTL:P3D
REFRESH-INTERVAL:P3D
CALSCALE:GREGORIAN
BEGIN:VEVENT
DTSTART:20230114T160000Z
DTEND:20230114T180000Z
X-MICROSOFT-CDO-ALLDAYEVENT:FALSE
SUMMARY:Intro to Cheesemaking
DESCRIPTION:Explore the science of cheesemaking\, from cow to cheese\, including milk\, rennet and everything in between. Participants will learn how to make a simple ricotta cheese and mozzarella to take home\, and feel confident making cheese in their own kitchens.
X-ALT-DESC;FMTTYPE=text/html:Explore the science of cheesemaking\, from cow to cheese\, including milk\, rennet and everything in between. Participants will learn how to make a simple ricotta cheese and mozzarella to take home\, and feel confident making cheese in their own kitchens.&nbsp\;
LOCATION:Oliver Kelley Farm 15788 Kelley Farm Rd Elk River MN 55330
UID:e.32.30504
SEQUENCE:3
DTSTAMP:20260425T140828Z
URL:https://business.elkriverchamber.org/events/details/intro-to-cheesemaking-30504
END:VEVENT

END:VCALENDAR
