BEGIN:VCALENDAR
VERSION:2.0
PRODID:-//ChamberMaster//Event Calendar 2.0//EN
METHOD:PUBLISH
X-PUBLISHED-TTL:P3D
REFRESH-INTERVAL:P3D
CALSCALE:GREGORIAN
BEGIN:VEVENT
DTSTART:20260513T123000Z
DTEND:20260513T140000Z
X-MICROSOFT-CDO-ALLDAYEVENT:FALSE
SUMMARY:RISE & SHINE: OSTEGO
DESCRIPTION:Join us for some community networking.
X-ALT-DESC;FMTTYPE=text/html:Join us for some community networking.
LOCATION:Rockwoods
UID:e.32.33330
SEQUENCE:3
DTSTAMP:20260420T212544Z
URL:https://business.elkriverchamber.org/events/details/rise-shine-ostego-33330
END:VEVENT

END:VCALENDAR
