BEGIN:VCALENDAR
VERSION:2.0
PRODID:-//ChamberMaster//Event Calendar 2.0//EN
METHOD:PUBLISH
X-PUBLISHED-TTL:P3D
REFRESH-INTERVAL:P3D
CALSCALE:GREGORIAN
BEGIN:VEVENT
DTSTART:20260716T233000Z
DTEND:20260717T003000Z
X-MICROSOFT-CDO-ALLDAYEVENT:FALSE
SUMMARY:Sound Bath at the Barn
DESCRIPTION:Continuing through Summer!!  Sound Bath at the Red Barn\n\nUnwind\, restore\, and realign with the healing power of sound. Join us inside the beautiful Red Barn at Trott Brook Farm Park for an immersive sound bath experience guided by Halo Heart Yoga & Sound.\n\n\n\nLet the soothing vibrations of crystal singing bowls\, chimes\, and other harmonic instruments wash over you\, helping to quiet the mind\, release tension\, and create a deep state of relaxation. This serene evening is the perfect midweek reset for your body\, mind\, and spirit.\n\n\n\nDates:\n\nThursday\, June 18th\n\nThursday\, July 16th\n\nThursday\, August 20th\n\n\n\nTime: 6:30 PM\n\n\n\nLocation: Trott Brook Farm Park   The Red Barn\n\n18300 Trott Brook Pkwy NW Elk River\, MN 55330\n\n\n\nCost: $15\n\n\n\nRegistration: Available through Elk River Parks and Recreation under Adult league/classes.\n\nClick below to register:\n\nhttps://secure.rec1.com/MN/elk-river-parks-rec-mn/catalog\n\n\n\nBring a yoga mat\, blanket\, pillow\, zero gravity lounger or anything that helps you feel cozy as you rest and receive the sound. No experience necessary.\n\n\n\nReceive a free class pass to Azitala Hot Yoga. One pass per person.
X-ALT-DESC;FMTTYPE=text/html:<span style="font-size:16px"><span style="font-family:arial">Continuing through Summer!!&nbsp\; Sound Bath at the Red Barn<br />\nUnwind\, restore\, and realign with the healing power of sound. Join us inside the beautiful Red Barn at Trott Brook Farm Park for an immersive sound bath experience guided by Halo Heart Yoga &amp\; Sound.<br />\n<br />\nLet the soothing vibrations of crystal singing bowls\, chimes\, and other harmonic instruments wash over you\, helping to quiet the mind\, release tension\, and create a deep state of relaxation. This serene evening is the perfect midweek reset for your body\, mind\, and spirit.<br />\n<br />\nDates:<br />\nThursday\, June 18th<br />\nThursday\, July 16th<br />\nThursday\, August 20th<br />\n<br />\nTime: 6:30 PM<br />\n<br />\nLocation: Trott Brook Farm Park &ndash\; The Red Barn<br />\n18300 Trott Brook Pkwy NW Elk River\, MN 55330<br />\n<br />\nCost: $15<br />\n<br />\nRegistration: Available through Elk River Parks and Recreation under Adult league/classes.<br />\nClick below to register:<br />\nhttps://secure.rec1.com/MN/elk-river-parks-rec-mn/catalog<br />\n<br />\nBring a yoga mat\, blanket\, pillow\, zero gravity lounger or anything that helps you feel cozy as you rest and receive the sound. No experience necessary.<br />\n<br />\nReceive a free class pass to Azitala Hot Yoga. One pass per person.</span></span>
LOCATION:18300 Trott Brook Pkwy Elk River\, MN 55330
UID:e.32.33167
SEQUENCE:3
DTSTAMP:20260421T102514Z
URL:https://business.elkriverchamber.org/events/details/sound-bath-at-the-barn-07-16-2026-33167
END:VEVENT

END:VCALENDAR
