BEGIN:VCALENDAR
VERSION:2.0
PRODID:-//ChamberMaster//Event Calendar 2.0//EN
METHOD:PUBLISH
X-PUBLISHED-TTL:P3D
REFRESH-INTERVAL:P3D
CALSCALE:GREGORIAN
BEGIN:VEVENT
DTSTART;VALUE=DATE:20231123
DTEND;VALUE=DATE:20231124
TRANSP:TRANSPARENT
X-MICROSOFT-CDO-ALLDAYEVENT:TRUE
SUMMARY:The 2nd Annual Community Thanksgiving
DESCRIPTION:The 2nd Annual Community Thanksgiving is back in Elk River\n\n\n\nKiser Construction\, a local Elk River Disaster Restoration/Construction Company in partnering with the Elk River Fire Foundation to host A Community Thanksgiving at Central Lutheran Church in Elk River Thanksgiving Day\, November 23rd\, from 11:30 a.m.   1 p.m. This event is also made possible because of a generous donation from The Elk River Eagles #3264!\n\n\n\nThis Free event is open to the public. Kiser Construction & the Elk River Fire Foundation are excited to host this community dinner for the second year in a row.\n\n\n\nWe will be serving at the church\, as well as delivering meals to a few Elk River Senior Centers and homebound residents in the Elk River area.\n\n\n\nPlease help us spread the word to your friends/family who might be interested in attending our Thanksgiving dinner. Last year we had the privilege of serving about 300 meals and are hoping to serve more this year!\n\n\n\nCentral Lutheran Church is located at 1103 School Street\, Elk River\, MN  55330.\n\n\n\nThe Elk River Fire Foundation is a non-profit that exists to help support the fire department personnel\, their families and our community.\n\n\n\nKiser Construction is a local home upgrade & disaster restoration company specializing in restoring homes with fire\, water or storm damage and we also completely remodel homes. We pride ourselves in treating our employees and our clients like family. We see the value in giving to the community.\n\n\n\nIf you have any questions regarding A Community Thanksgiving\, please contact us at Elkriverfirefoundation@gmail.com or call 612-499-3442.
X-ALT-DESC;FMTTYPE=text/html:<span background-color:="" font-size:="" style="color: rgb(51\, 51\, 51)\; font-family: sans-serif\, Arial\, Verdana\, " trebuchet="">The 2nd Annual Community Thanksgiving is back in Elk River</span><br font-size:="" style="color: rgb(51\, 51\, 51)\; font-family: sans-serif\, Arial\, Verdana\, " trebuchet="" />\n<br font-size:="" style="color: rgb(51\, 51\, 51)\; font-family: sans-serif\, Arial\, Verdana\, " trebuchet="" />\n<span background-color:="" font-size:="" style="color: rgb(51\, 51\, 51)\; font-family: sans-serif\, Arial\, Verdana\, " trebuchet="">Kiser Construction\, a local Elk River Disaster Restoration/Construction Company in partnering with the Elk River Fire Foundation to host A Community Thanksgiving at Central Lutheran Church in Elk River Thanksgiving Day\, November 23rd\, from 11:30 a.m. &ndash\; 1 p.m. This event is also made possible because of a generous donation from The Elk River Eagles #3264!</span><br font-size:="" style="color: rgb(51\, 51\, 51)\; font-family: sans-serif\, Arial\, Verdana\, " trebuchet="" />\n<br font-size:="" style="color: rgb(51\, 51\, 51)\; font-family: sans-serif\, Arial\, Verdana\, " trebuchet="" />\n<span background-color:="" font-size:="" style="color: rgb(51\, 51\, 51)\; font-family: sans-serif\, Arial\, Verdana\, " trebuchet="">This Free event is open to the public. Kiser Construction &amp\; the Elk River Fire Foundation are excited to host this community dinner for the second year in a row.</span><br font-size:="" style="color: rgb(51\, 51\, 51)\; font-family: sans-serif\, Arial\, Verdana\, " trebuchet="" />\n<br font-size:="" style="color: rgb(51\, 51\, 51)\; font-family: sans-serif\, Arial\, Verdana\, " trebuchet="" />\n<span background-color:="" font-size:="" style="color: rgb(51\, 51\, 51)\; font-family: sans-serif\, Arial\, Verdana\, " trebuchet="">We will be serving at the church\, as well as delivering meals to a few Elk River Senior Centers and homebound residents in the Elk River area.</span><br font-size:="" style="color: rgb(51\, 51\, 51)\; font-family: sans-serif\, Arial\, Verdana\, " trebuchet="" />\n<br font-size:="" style="color: rgb(51\, 51\, 51)\; font-family: sans-serif\, Arial\, Verdana\, " trebuchet="" />\n<span background-color:="" font-size:="" style="color: rgb(51\, 51\, 51)\; font-family: sans-serif\, Arial\, Verdana\, " trebuchet="">Please help us spread the word to your friends/family who might be interested in attending our Thanksgiving dinner. Last year we had the privilege of serving about 300 meals and are hoping to serve more this year!</span><br font-size:="" style="color: rgb(51\, 51\, 51)\; font-family: sans-serif\, Arial\, Verdana\, " trebuchet="" />\n<br font-size:="" style="color: rgb(51\, 51\, 51)\; font-family: sans-serif\, Arial\, Verdana\, " trebuchet="" />\n<span background-color:="" font-size:="" style="color: rgb(51\, 51\, 51)\; font-family: sans-serif\, Arial\, Verdana\, " trebuchet="">Central Lutheran Church is located at 1103 School Street\, Elk River\, MN&nbsp\; 55330.</span><br font-size:="" style="color: rgb(51\, 51\, 51)\; font-family: sans-serif\, Arial\, Verdana\, " trebuchet="" />\n<br font-size:="" style="color: rgb(51\, 51\, 51)\; font-family: sans-serif\, Arial\, Verdana\, " trebuchet="" />\n<span background-color:="" font-size:="" style="color: rgb(51\, 51\, 51)\; font-family: sans-serif\, Arial\, Verdana\, " trebuchet="">The Elk River Fire Foundation is a non-profit that exists to help support the fire department personnel\, their families and our community.</span><br font-size:="" style="color: rgb(51\, 51\, 51)\; font-family: sans-serif\, Arial\, Verdana\, " trebuchet="" />\n<br font-size:="" style="color: rgb(51\, 51\, 51)\; font-family: sans-serif\, Arial\, Verdana\, " trebuchet="" />\n<span background-color:="" font-size:="" style="color: rgb(51\, 51\, 51)\; font-family: sans-serif\, Arial\, Verdana\, " trebuchet="">Kiser Construction is a local home upgrade &amp\; disaster restoration company specializing in restoring homes with fire\, water or storm damage and we also completely remodel homes. We pride ourselves in treating our employees and our clients like family. We see the value in giving to the community.</span><br font-size:="" style="color: rgb(51\, 51\, 51)\; font-family: sans-serif\, Arial\, Verdana\, " trebuchet="" />\n<br font-size:="" style="color: rgb(51\, 51\, 51)\; font-family: sans-serif\, Arial\, Verdana\, " trebuchet="" />\n<span background-color:="" font-size:="" style="color: rgb(51\, 51\, 51)\; font-family: sans-serif\, Arial\, Verdana\, " trebuchet="">If you have any questions regarding A Community Thanksgiving\, please contact us at Elkriverfirefoundation@gmail.com or call 612-499-3442.</span><br />\n&nbsp\;
LOCATION:Central Lutheran Church is located at 1103 School Street\, Elk River\, MN 55330
UID:e.32.31142
SEQUENCE:3
DTSTAMP:20260425T123146Z
URL:https://business.elkriverchamber.org/events/details/the-2nd-annual-community-thanksgiving-31142
END:VEVENT

END:VCALENDAR
