BEGIN:VCALENDAR
VERSION:2.0
PRODID:-//ChamberMaster//Event Calendar 2.0//EN
METHOD:PUBLISH
X-PUBLISHED-TTL:P3D
REFRESH-INTERVAL:P3D
CALSCALE:GREGORIAN
BEGIN:VEVENT
DTSTART:20260506T140000Z
DTEND:20260506T153000Z
X-MICROSOFT-CDO-ALLDAYEVENT:FALSE
SUMMARY:ZIMMERMAN BUSINESS COUNCIL
DESCRIPTION:Zimmerman Business Council - Business Spotlight & Networking\n\n \n\nChildcare: A Business Issue We Can't Ignore\n\nJoin us at the next Zimmerman Business Council as we tackle a topic that impacts every business whether you realize it or not.\n\nBrian Fleming from Sherburne County Economic Development and Brandy Sroga-Coons\, Creative Kids Academy\, will break down what's really happening with childcare in our communities. From understanding the different types of care available in Minnesota to exploring the Sherburne County Childcare Availability Map\, you'll walk away with a clearer picture of the challenges and the opportunities.\n\nThis isn't just a "family issue." Childcare directly affects workforce availability\, economic growth\, and the future of our communities. So why isn't the system working and what role can you play in strengthening it?\n\nWe'll also hear from local nonprofit Ruff Start Rescue\, a foster-based pet rescue making a meaningful impact in our community because strong communities are built in many ways.\n\n\n\nExpect real insights\, meaningful conversation\, and a fresh perspective on how childcare connects to your business and our local economy.\n\nCome ready to learn\, engage\, and be part of the solution.\n\nDesigned for Elk River Area Chamber of Commerce members\, this casual meeting is also a great opportunity for "not yet members" to attend and connect.\n\nCome to:\n\n  Learn about another local business\n\n  Build relationships and make new connections\n\n  Strengthen the Zimmerman business community\n\nWe welcome both Chamber members and guests to join the conversation and grow their network!
X-ALT-DESC;FMTTYPE=text/html:<div class="flex flex-col text-sm pb-25">\n<article class="text-token-text-primary w-full focus:outline-none [--shadow-height:45px] has-data-writing-block:pointer-events-none has-data-writing-block:-mt-(--shadow-height) has-data-writing-block:pt-(--shadow-height) [&amp\;:has([data-writing-block])&gt\;*]:pointer-events-auto scroll-mt-[calc(var(--header-height)+min(200px\,max(70px\,20svh)))]" data-scroll-anchor="true" data-testid="conversation-turn-4" data-turn="assistant" data-turn-id="request-WEB:d28d26ef-758a-4408-9da3-19f3c133a05d-4" dir="auto" tabindex="-1">\n<div class="text-base my-auto mx-auto pb-10 [--thread-content-margin:var(--thread-content-margin-xs\,calc(var(--spacing)*4))] @w-sm/main:[--thread-content-margin:var(--thread-content-margin-sm\,calc(var(--spacing)*6))] @w-lg/main:[--thread-content-margin:var(--thread-content-margin-lg\,calc(var(--spacing)*16))] px-(--thread-content-margin)">\n<div class="[--thread-content-max-width:40rem] @w-lg/main:[--thread-content-max-width:48rem] mx-auto max-w-(--thread-content-max-width) flex-1 group/turn-messages focus-visible:outline-hidden relative flex w-full min-w-0 flex-col agent-turn" tabindex="-1">\n<div class="flex max-w-full flex-col gap-4 grow">\n<div class="min-h-8 text-message relative flex w-full flex-col items-end gap-2 text-start break-words whitespace-normal [.text-message+&amp\;]:mt-1" data-message-author-role="assistant" data-message-id="5ad7eab7-b4e5-4a44-bf9b-2ea9972eda9f" data-message-model-slug="gpt-5-3" dir="auto">\n<div class="flex w-full flex-col gap-1 empty:hidden">\n<div class="markdown prose dark:prose-invert w-full wrap-break-word light markdown-new-styling">\n<p data-end="64" data-start="0"><span style="font-size:16px\;"><span style="font-family:arial\;"><strong data-end="64" data-start="0">Zimmerman Business Council -&nbsp\;Business Spotlight &amp\; Networking</strong></span></span><br />\n&nbsp\;</p>\n\n<p class="xmsonormal"><b>Childcare: A Business Issue We Can&rsquo\;t Ignore</b></p>\n\n<p class="xmsonormal">Join us at the next Zimmerman Business Council as we tackle a topic that impacts every business&mdash\;whether you realize it or not.</p>\n\n<p class="xmsonormal">Brian Fleming from Sherburne County Economic Development and Brandy Sroga-Coons\, Creative Kids Academy\, will break down what&rsquo\;s really happening with childcare in our communities. From understanding the different types of care available in Minnesota to exploring the <b>Sherburne County Childcare Availability Map</b>\, you&rsquo\;ll walk away with a clearer picture of the challenges&mdash\;and the opportunities.</p>\n\n<p class="xmsonormal">This isn&rsquo\;t just a &ldquo\;family issue.&rdquo\; Childcare directly affects workforce availability\, economic growth\, and the future of our communities. So why isn&rsquo\;t the system working&mdash\;and what role can <i>you</i> play in strengthening it?</p>\n\n<p class="xmsonormal">We&rsquo\;ll also hear from local nonprofit <span class="hover:entity-accent entity-underline inline cursor-pointer align-baseline">Ruff Start Rescue</span>\, a foster-based pet rescue making a meaningful impact in our community&mdash\;because strong communities are built in many ways.<br />\n<br />\nExpect real insights\, meaningful conversation\, and a fresh perspective on how childcare connects to your business and our local economy.</p>\n\n<p class="xmsonormal">Come ready to learn\, engage\, and be part of the solution.</p>\n\n<p data-end="64" data-start="0"><span style="font-size:14px\;"><span style="font-family:arial\;">Designed for <strong data-end="291" data-start="245">Elk River Area Chamber of Commerce members</strong>\, this casual meeting is also a great opportunity for <strong data-end="366" data-start="345">&ldquo\;not yet members&rdquo\;</strong> to attend and connect.</span></span></p>\n\n<p data-end="539" data-start="393"><span style="font-size:14px\;"><span style="font-family:arial\;">Come to:<br data-end="404" data-start="401" />\n&bull\; Learn about another local business<br data-end="443" data-start="440" />\n&bull\; Build relationships and make new connections<br data-end="492" data-start="489" />\n&bull\; Strengthen the Zimmerman business community</span></span></p>\n\n<p data-end="636" data-is-last-node="" data-is-only-node="" data-start="541"><span style="font-size:16px\;"><span style="font-family:arial\;"><span style="font-size:14px\;">We welcome both <strong data-end="587" data-start="557">Chamber members and guests</strong> to join the conversation and grow their network!</span></span></span><br />\n<br />\n&nbsp\;</p>\n</div>\n</div>\n</div>\n</div>\n</div>\n</div>\n</article>\n</div>\n\n<div aria-hidden="true" class="pointer-events-none h-px w-px absolute bottom-0" data-edge="true">&nbsp\;</div>\n
LOCATION:Station 1 Event Center Zimmerman Fire Station 26140 136th St NW Zimmerman
UID:e.32.33177
SEQUENCE:3
DTSTAMP:20260425T224103Z
URL:https://business.elkriverchamber.org/events/details/zimmerman-business-council-05-06-2026-33177
END:VEVENT

END:VCALENDAR
